BEGIN:VCALENDAR
VERSION:2.0
PRODID:-//North Tawton Town Council - ECPv6.15.18//NONSGML v1.0//EN
CALSCALE:GREGORIAN
METHOD:PUBLISH
X-WR-CALNAME:North Tawton Town Council
X-ORIGINAL-URL:https://northtawtontowncouncil.gov.uk
X-WR-CALDESC:Events for North Tawton Town Council
REFRESH-INTERVAL;VALUE=DURATION:PT1H
X-Robots-Tag:noindex
X-PUBLISHED-TTL:PT1H
BEGIN:VTIMEZONE
TZID:UTC
BEGIN:STANDARD
TZOFFSETFROM:+0000
TZOFFSETTO:+0000
TZNAME:UTC
DTSTART:20190101T000000
END:STANDARD
END:VTIMEZONE
BEGIN:VEVENT
DTSTART;TZID=UTC:20200115T190000
DTEND;TZID=UTC:20200115T210000
DTSTAMP:20260423T133636
CREATED:20200108T105648Z
LAST-MODIFIED:20200108T105648Z
UID:1361-1579114800-1579122000@northtawtontowncouncil.gov.uk
SUMMARY:NTTC Extraordinary Meeting
DESCRIPTION:
URL:https://northtawtontowncouncil.gov.uk/event/nttc-extraordinary-meeting
LOCATION:NTTC Office\, North Tawton Town Council\, NORTH TAWTON\, DEVON\, EX20 2EP
END:VEVENT
BEGIN:VEVENT
DTSTART;TZID=UTC:20200114T193000
DTEND;TZID=UTC:20200114T213000
DTSTAMP:20260423T133636
CREATED:20200108T105512Z
LAST-MODIFIED:20200108T105512Z
UID:1356-1579030200-1579037400@northtawtontowncouncil.gov.uk
SUMMARY:NTTC Ordinary Meeting
DESCRIPTION:
URL:https://northtawtontowncouncil.gov.uk/event/nttc-ordinary-meeting
LOCATION:NTTC Office\, North Tawton Town Council\, NORTH TAWTON\, DEVON\, EX20 2EP
END:VEVENT
END:VCALENDAR