BEGIN:VCALENDAR
VERSION:2.0
PRODID:-//North Tawton Town Council - ECPv6.15.18//NONSGML v1.0//EN
CALSCALE:GREGORIAN
METHOD:PUBLISH
X-WR-CALNAME:North Tawton Town Council
X-ORIGINAL-URL:https://northtawtontowncouncil.gov.uk
X-WR-CALDESC:Events for North Tawton Town Council
REFRESH-INTERVAL;VALUE=DURATION:PT1H
X-Robots-Tag:noindex
X-PUBLISHED-TTL:PT1H
BEGIN:VTIMEZONE
TZID:Europe/London
BEGIN:DAYLIGHT
TZOFFSETFROM:+0000
TZOFFSETTO:+0100
TZNAME:BST
DTSTART:20240331T010000
END:DAYLIGHT
BEGIN:STANDARD
TZOFFSETFROM:+0100
TZOFFSETTO:+0000
TZNAME:GMT
DTSTART:20241027T010000
END:STANDARD
BEGIN:DAYLIGHT
TZOFFSETFROM:+0000
TZOFFSETTO:+0100
TZNAME:BST
DTSTART:20250330T010000
END:DAYLIGHT
BEGIN:STANDARD
TZOFFSETFROM:+0100
TZOFFSETTO:+0000
TZNAME:GMT
DTSTART:20251026T010000
END:STANDARD
BEGIN:DAYLIGHT
TZOFFSETFROM:+0000
TZOFFSETTO:+0100
TZNAME:BST
DTSTART:20260329T010000
END:DAYLIGHT
BEGIN:STANDARD
TZOFFSETFROM:+0100
TZOFFSETTO:+0000
TZNAME:GMT
DTSTART:20261025T010000
END:STANDARD
END:VTIMEZONE
BEGIN:VTIMEZONE
TZID:UTC
BEGIN:STANDARD
TZOFFSETFROM:+0000
TZOFFSETTO:+0000
TZNAME:UTC
DTSTART:20190101T000000
END:STANDARD
END:VTIMEZONE
BEGIN:VEVENT
DTSTART;TZID=Europe/London:20251001T193000
DTEND;TZID=Europe/London:20251001T193000
DTSTAMP:20260419T210830
CREATED:20251027T134905Z
LAST-MODIFIED:20251027T134905Z
UID:9448-1759347000-1759347000@northtawtontowncouncil.gov.uk
SUMMARY:Finance Committee Meeting
DESCRIPTION:This meeting will be held at Town Council Office. Members of the public are welcome to attend; please see the agenda for more details.
URL:https://northtawtontowncouncil.gov.uk/event/finance-committee-meeting
LOCATION:NTTC Office\, North Tawton Town Council\, NORTH TAWTON\, DEVON\, EX20 2EP
CATEGORIES:Town Council Meetings
END:VEVENT
BEGIN:VEVENT
DTSTART;TZID=Europe/London:20250902T193000
DTEND;TZID=Europe/London:20250902T193000
DTSTAMP:20260419T210830
CREATED:20251014T165949Z
LAST-MODIFIED:20251014T165949Z
UID:9362-1756841400-1756841400@northtawtontowncouncil.gov.uk
SUMMARY:Council Meeting
DESCRIPTION:We meet on the first Tuesday of the month at 7:30pm. This meeting will be held at the council offices unless otherwise stated\, please check the agenda for more details.  Members of the public are welcome to attend.
URL:https://northtawtontowncouncil.gov.uk/event/council-meeting
LOCATION:NTTC Office\, North Tawton Town Council\, NORTH TAWTON\, DEVON\, EX20 2EP
CATEGORIES:Town Council Meetings
END:VEVENT
BEGIN:VEVENT
DTSTART;TZID=Europe/London:20250501T190000
DTEND;TZID=Europe/London:20250501T190000
DTSTAMP:20260419T210830
CREATED:20260225T103734Z
LAST-MODIFIED:20260225T104423Z
UID:9900-1746126000-1746126000@northtawtontowncouncil.gov.uk
SUMMARY:Annual Town Meeting - Rugby Club
DESCRIPTION:This meeting will be held at Town Council Office. Members of the public are welcome to attend; please see the agenda for more details.
URL:https://northtawtontowncouncil.gov.uk/event/annual-town-meeting-rugby-club
LOCATION:NTTC Office\, North Tawton Town Council\, NORTH TAWTON\, DEVON\, EX20 2EP
CATEGORIES:Town Council Meetings
END:VEVENT
BEGIN:VEVENT
DTSTART;TZID=Europe/London:20250324T193000
DTEND;TZID=Europe/London:20250324T193000
DTSTAMP:20260419T210830
CREATED:20251027T135014Z
LAST-MODIFIED:20251027T135014Z
UID:9450-1742844600-1742844600@northtawtontowncouncil.gov.uk
SUMMARY:Finance Committee
DESCRIPTION:This meeting will be held at Town Council Office. Members of the public are welcome to attend; please see the agenda for more details.
URL:https://northtawtontowncouncil.gov.uk/event/finance-committee
LOCATION:NTTC Office\, North Tawton Town Council\, NORTH TAWTON\, DEVON\, EX20 2EP
CATEGORIES:Town Council Meetings
END:VEVENT
BEGIN:VEVENT
DTSTART;TZID=UTC:20200115T190000
DTEND;TZID=UTC:20200115T210000
DTSTAMP:20260419T210830
CREATED:20200108T105648Z
LAST-MODIFIED:20200108T105648Z
UID:1361-1579114800-1579122000@northtawtontowncouncil.gov.uk
SUMMARY:NTTC Extraordinary Meeting
DESCRIPTION:
URL:https://northtawtontowncouncil.gov.uk/event/nttc-extraordinary-meeting
LOCATION:NTTC Office\, North Tawton Town Council\, NORTH TAWTON\, DEVON\, EX20 2EP
END:VEVENT
BEGIN:VEVENT
DTSTART;TZID=UTC:20200114T193000
DTEND;TZID=UTC:20200114T213000
DTSTAMP:20260419T210830
CREATED:20200108T105512Z
LAST-MODIFIED:20200108T105512Z
UID:1356-1579030200-1579037400@northtawtontowncouncil.gov.uk
SUMMARY:NTTC Ordinary Meeting
DESCRIPTION:
URL:https://northtawtontowncouncil.gov.uk/event/nttc-ordinary-meeting
LOCATION:NTTC Office\, North Tawton Town Council\, NORTH TAWTON\, DEVON\, EX20 2EP
END:VEVENT
END:VCALENDAR